Workbook
Name _00_65422300416: #REF!
Name _01组_65010901601: #REF!

Sheet 企业花名册
A1: 2025年4-5月（第二批）企业社保补贴汇总花名册
A2: 序号 | B2: 单位名称 | C2: 补贴人数 | D2: 高校毕业生人数 | E2: 统一社会信用代码 | F2: 养老单位缴纳部分 | G2: 医疗单位缴纳部分 | H2: 失业单位缴纳部分 | I2: 单位申请金额 | J2: 单位审批金额 | K2: 高校毕业生个人申请金额 | L2: 高校毕业生个人审批金额 | M2: 总审批金额 | N2: 2025年申请月
A3: =ROW()-2 -> 1 | B3: 喀什市歌雅艺术培训有限公司 | C3: 4 | D3: 0 | E3: 916531*********455 | F3: =SUMIF(申请单位部分员工花名册!D:G,B:B,申请单位部分员工花名册!G:G) -> 6398.72 | G3: =SUMIF(申请单位部分员工花名册!D:H,B:B,申请单位部分员工花名册!H:H) -> 2719.44 | H3: 0 | I3: =F3+G3 -> 9118.16 | J3: =I3 -> 9118.16 | K3: =SUMIF(申请个人部分高校生花名册!D:L,B:B,申请个人部分高校生花名册!L:L) -> 0 | L3: =K3 -> 0 | M3: =J3+L3 -> 9118.16 | N3: 4-5月
A4: =ROW()-2 -> 2 | B4: 喀什志向人力资源服务有限公司 | C4: 1 | D4: 0 | E4: 916531*********C35 | F4: =SUMIF(申请单位部分员工花名册!D:G,B:B,申请单位部分员工花名册!G:G) -> 1599.68 | G4: =SUMIF(申请单位部分员工花名册!D:H,B:B,申请单位部分员工花名册!H:H) -> 679.86 | H4: 0 | I4: =F4+G4 -> 2279.54 | J4: =I4 -> 2279.54 | K4: =SUMIF(申请个人部分高校生花名册!D:L,B:B,申请个人部分高校生花名册!L:L) -> 0 | L4: =K4 -> 0 | M4: =J4+L4 -> 2279.54 | N4: 4-5月
A5: =ROW()-2 -> 3 | B5: 喀什嘉诺财务管理咨询有限公司 | C5: 2 | D5: 0 | E5: 916531*********14K | F5: =SUMIF(申请单位部分员工花名册!D:G,B:B,申请单位部分员工花名册!G:G) -> 3199.36 | G5: =SUMIF(申请单位部分员工花名册!D:H,B:B,申请单位部分员工花名册!H:H) -> 1359.72 | H5: 0 | I5: =F5+G5 -> 4559.08 | J5: =I5 -> 4559.08 | K5: =SUMIF(申请个人部分高校生花名册!D:L,B:B,申请个人部分高校生花名册!L:L) -> 0 | L5: =K5 -> 0 | M5: =J5+L5 -> 4559.08 | N5: 4-5月
A6: =ROW()-2 -> 4 | B6: 方舟安全管理新疆有限公司 | C6: 6 | D6: 1 | E6: 916531*********790 | F6: =SUMIF(申请单位部分员工花名册!D:G,B:B,申请单位部分员工花名册!G:G) -> 9598.08 | G6: =SUMIF(申请单位部分员工花名册!D:H,B:B,申请单位部分员工花名册!H:H) -> 4079.16 | H6: 0 | I6: =F6+G6 -> 13677.24 | J6: =I6 -> 13677.24 | K6: =SUMIF(申请个人部分高校生花名册!D:L,B:B,申请个人部分高校生花名册!L:L) -> 999.8 | L6: =K6 -> 999.8 | M6: =J6+L6 -> 14677.04 | N6: 4-5月
A7: =ROW()-2 -> 5 | B7: 新疆蓝信应急职业技能培训学校 | C7: 1 | D7: 0 | E7: 916531*********KXL | F7: =SUMIF(申请单位部分员工花名册!D:G,B:B,申请单位部分员工花名册!G:G) -> 1599.68 | G7: =SUMIF(申请单位部分员工花名册!D:H,B:B,申请单位部分员工花名册!H:H) -> 679.86 | H7: 0 | I7: =F7+G7 -> 2279.54 | J7: =I7 -> 2279.54 | K7: =SUMIF(申请个人部分高校生花名册!D:L,B:B,申请个人部分高校生花名册!L:L) -> 0 | L7: =K7 -> 0 | M7: =J7+L7 -> 2279.54 | N7: 4-5月
A8: =ROW()-2 -> 6 | B8: 新疆源天安全环保科技有限责任公司 | C8: 2 | D8: 0 | E8: 916531*********79A | F8: =SUMIF(申请单位部分员工花名册!D:G,B:B,申请单位部分员工花名册!G:G) -> 2399.52 | G8: =SUMIF(申请单位部分员工花名册!D:H,B:B,申请单位部分员工花名册!H:H) -> 1019.79 | H8: 0 | I8: =F8+G8 -> 3419.31 | J8: =I8 -> 3419.31 | K8: =SUMIF(申请个人部分高校生花名册!D:L,B:B,申请个人部分高校生花名册!L:L) -> 0 | L8: =K8 -> 0 | M8: =J8+L8 -> 3419.31 | N8: 4-5月
A9: =ROW()-2 -> 7 | B9: 喀什医嘉动物医院有限公司 | C9: 4 | D9: 2 | E9: 916531*********51P | F9: =SUMIF(申请单位部分员工花名册!D:G,B:B,申请单位部分员工花名册!G:G) -> 6398.72 | G9: =SUMIF(申请单位部分员工花名册!D:H,B:B,申请单位部分员工花名册!H:H) -> 2719.44 | H9: 0 | I9: =F9+G9 -> 9118.16 | J9: =I9 -> 9118.16 | K9: =SUMIF(申请个人部分高校生花名册!D:L,B:B,申请个人部分高校生花名册!L:L) -> 1999.6 | L9: =K9 -> 1999.6 | M9: =J9+L9 -> 11117.76 | N9: 4-5月
A10: =ROW()-2 -> 8 | B10: 喀什新怡发物业服务有限公司 | C10: 2 | D10: 0 | E10: 916531*********96C | F10: =SUMIF(申请单位部分员工花名册!D:G,B:B,申请单位部分员工花名册!G:G) -> 3199.36 | G10: =SUMIF(申请单位部分员工花名册!D:H,B:B,申请单位部分员工花名册!H:H) -> 1359.72 | H10: 0 | I10: =F10+G10 -> 4559.08 | J10: =I10 -> 4559.08 | K10: =SUMIF(申请个人部分高校生花名册!D:L,B:B,申请个人部分高校生花名册!L:L) -> 0 | L10: =K10 -> 0 | M10: =J10+L10 -> 4559.08 | N10: 4-5月
A11: =ROW()-2 -> 9 | B11: 喀什新怡发房产销售有限公司 | C11: 2 | D11: 0 | E11: 916531*********58E | F11: =SUMIF(申请单位部分员工花名册!D:G,B:B,申请单位部分员工花名册!G:G) -> 3199.36 | G11: =SUMIF(申请单位部分员工花名册!D:H,B:B,申请单位部分员工花名册!H:H) -> 1359.72 | H11: 0 | I11: =F11+G11 -> 4559.08 | J11: =I11 -> 4559.08 | K11: =SUMIF(申请个人部分高校生花名册!D:L,B:B,申请个人部分高校生花名册!L:L) -> 0 | L11: =K11 -> 0 | M11: =J11+L11 -> 4559.08 | N11: 4-5月
A12: =ROW()-2 -> 10 | B12: 喀什汇美嘉业商贸有限公司 | C12: 3 | D12: 0 | E12: 916531*********G0P | F12: =SUMIF(申请单位部分员工花名册!D:G,B:B,申请单位部分员工花名册!G:G) -> 4799.04 | G12: =SUMIF(申请单位部分员工花名册!D:H,B:B,申请单位部分员工花名册!H:H) -> 2039.58 | H12: 0 | I12: =F12+G12 -> 6838.62 | J12: =I12 -> 6838.62 | K12: =SUMIF(申请个人部分高校生花名册!D:L,B:B,申请个人部分高校生花名册!L:L) -> 0 | L12: =K12 -> 0 | M12: =J12+L12 -> 6838.62 | N12: 4-5月
A13: =ROW()-2 -> 11 | B13: 新疆森开财务信息咨询有限公司 | C13: 4 | D13: 0 | E13: 916531*********696 | F13: =SUMIF(申请单位部分员工花名册!D:G,B:B,申请单位部分员工花名册!G:G) -> 6719.36 | G13: =SUMIF(申请单位部分员工花名册!D:H,B:B,申请单位部分员工花名册!H:H) -> 2855.72 | H13: 0 | I13: =F13+G13 -> 9575.08 | J13: =I13 -> 9575.08 | K13: =SUMIF(申请个人部分高校生花名册!D:L,B:B,申请个人部分高校生花名册!L:L) -> 0 | L13: =K13 -> 0 | M13: =J13+L13 -> 9575.08 | N13: 4-5月
A14: =ROW()-2 -> 12 | B14: 新疆永盛胜达电梯有限公司 | C14: 23 | D14: 2 | E14: 916531*********99A | F14: =SUMIF(申请单位部分员工花名册!D:G,B:B,申请单位部分员工花名册!G:G) -> 35992.8 | G14: =SUMIF(申请单位部分员工花名册!D:H,B:B,申请单位部分员工花名册!H:H) -> 15296.85 | H14: 0 | I14: =F14+G14 -> 51289.65 | J14: =I14 -> 51289.65 | K14: =SUMIF(申请个人部分高校生花名册!D:L,B:B,申请个人部分高校生花名册!L:L) -> 1999.6 | L14: =K14 -> 1999.6 | M14: =J14+L14 -> 53289.25 | N14: 4-5月
... A123: =ROW()-2 -> 121 | B123: 喀什实恒商贸有限责任公司 | C123: 2 | D123: 0 | E123: 916531*********126 | F123: =SUMIF(申请单位部分员工花名册!D:G,B:B,申请单位部分员工花名册!G:G) -> 3199.36 | G123: =SUMIF(申请单位部分员工花名册!D:H,B:B,申请单位部分员工花名册!H:H) -> 1359.72 | H123: 0 | I123: =F123+G123 -> 4559.08 | J123: =I123 -> 4559.08 | K123: =SUMIF(申请个人部分高校生花名册!D:L,B:B,申请个人部分高校生花名册!L:L) -> 0 | L123: =K123 -> 0 | M123: =J123+L123 -> 4559.08 | N123: 4-5月
A124: =ROW()-2 -> 122 | B124: 新疆捷智文化传媒有限责任公司 | C124: 1 | D124: 0 | E124: 916531*********K0B | F124: =SUMIF(申请单位部分员工花名册!D:G,B:B,申请单位部分员工花名册!G:G) -> 1599.68 | G124: =SUMIF(申请单位部分员工花名册!D:H,B:B,申请单位部分员工花名册!H:H) -> 679.86 | H124: 0 | I124: =F124+G124 -> 2279.54 | J124: =I124 -> 2279.54 | K124: 0 | L124: 0 | M124: =J124+L124 -> 2279.54 | N124: 4-5月
A125: =ROW()-2 -> 123 | B125: 喀什文化旅游投资(集团)有限责任公司 | C125: 7 | D125: 1 | E125: 916531*********P5K | F125: =SUMIF(申请单位部分员工花名册!D:G,B:B,申请单位部分员工花名册!G:G) -> 15748.16 | G125: =SUMIF(申请单位部分员工花名册!D:H,B:B,申请单位部分员工花名册!H:H) -> 6692.98 | H125: 0 | I125: =F125+G125 -> 22441.14 | J125: =I125 -> 22441.14 | K125: =SUMIF(申请个人部分高校生花名册!D:L,B:B,申请个人部分高校生花名册!L:L) -> 999.8 | L125: =K125 -> 999.8 | M125: =J125+L125 -> 23440.94 | N125: 4-5月
A126: =ROW()-2 -> 124 | B126: 新疆万雄工程建设有限公司 | C126: 7 | D126: 0 | E126: 916531*********M5N | F126: =SUMIF(申请单位部分员工花名册!D:G,B:B,申请单位部分员工花名册!G:G) -> 11197.76 | G126: =SUMIF(申请单位部分员工花名册!D:H,B:B,申请单位部分员工花名册!H:H) -> 4759.02 | H126: 0 | I126: =F126+G126 -> 15956.78 | J126: =I126 -> 15956.78 | K126: =SUMIF(申请个人部分高校生花名册!D:L,B:B,申请个人部分高校生花名册!L:L) -> 0 | L126: =K126 -> 0 | M126: =J126+L126 -> 15956.78 | N126: 4-5月
A127: =ROW()-2 -> 125 | B127: 喀什市义武体育培训有限公司 | C127: 1 | D127: 0 | E127: 916531*********61J | F127: =SUMIF(申请单位部分员工花名册!D:G,B:B,申请单位部分员工花名册!G:G) -> 1599.68 | G127: =SUMIF(申请单位部分员工花名册!D:H,B:B,申请单位部分员工花名册!H:H) -> 679.86 | H127: 0 | I127: =F127+G127 -> 2279.54 | J127: =I127 -> 2279.54 | K127: =SUMIF(申请个人部分高校生花名册!D:L,B:B,申请个人部分高校生花名册!L:L) -> 0 | L127: =K127 -> 0 | M127: =J127+L127 -> 2279.54 | N127: 4-5月
A128: =ROW()-2 -> 126 | B128: 喀什益群眼镜连锁有限责任公司 | C128: 19 | D128: 0 | E128: 916531*********62Q | F128: =SUMIF(申请单位部分员工花名册!D:G,B:B,申请单位部分员工花名册!G:G) -> 29594.08 | G128: =SUMIF(申请单位部分员工花名册!D:H,B:B,申请单位部分员工花名册!H:H) -> 12577.41 | H128: 0 | I128: =F128+G128 -> 42171.49 | J128: =I128 -> 42171.49 | K128: =SUMIF(申请个人部分高校生花名册!D:L,B:B,申请个人部分高校生花名册!L:L) -> 0 | L128: =K128 -> 0 | M128: =J128+L128 -> 42171.49 | N128: 4-5月
A129: =ROW()-2 -> 127 | B129: 喀什清早农业开发有限公司 | C129: 3 | D129: 0 | E129: 916531*********C8B | F129: =SUMIF(申请单位部分员工花名册!D:G,B:B,申请单位部分员工花名册!G:G) -> 4799.04 | G129: =SUMIF(申请单位部分员工花名册!D:H,B:B,申请单位部分员工花名册!H:H) -> 2039.58 | H129: 0 | I129: =F129+G129 -> 6838.62 | J129: =I129 -> 6838.62 | K129: =SUMIF(申请个人部分高校生花名册!D:L,B:B,申请个人部分高校生花名册!L:L) -> 0 | L129: =K129 -> 0 | M129: =J129+L129 -> 6838.62 | N129: 4-5月
A130: =ROW()-2 -> 128 | B130: 天健工程咨询（新疆）有限公司喀什分公司 | C130: 3 | D130: 0 | E130: 916531*********70Y | F130: =SUMIF(申请单位部分员工花名册!D:G,B:B,申请单位部分员工花名册!G:G) -> 4799.04 | G130: =SUMIF(申请单位部分员工花名册!D:H,B:B,申请单位部分员工花名册!H:H) -> 2039.58 | H130: 0 | I130: =F130+G130 -> 6838.62 | J130: =I130 -> 6838.62 | K130: =SUMIF(申请个人部分高校生花名册!D:L,B:B,申请个人部分高校生花名册!L:L) -> 0 | L130: =K130 -> 0 | M130: =J130+L130 -> 6838.62 | N130: 4-5月
A131: =ROW()-2 -> 129 | B131: 新疆盛唐龙运汽车销售服务有限公司 | C131: 2 | D131: 0 | E131: 916531*********97E | F131: =SUMIF(申请单位部分员工花名册!D:G,B:B,申请单位部分员工花名册!G:G) -> 3199.36 | G131: =SUMIF(申请单位部分员工花名册!D:H,B:B,申请单位部分员工花名册!H:H) -> 1359.72 | H131: 0 | I131: =F131+G131 -> 4559.08 | J131: =I131 -> 4559.08 | K131: =SUMIF(申请个人部分高校生花名册!D:L,B:B,申请个人部分高校生花名册!L:L) -> 0 | L131: =K131 -> 0 | M131: =J131+L131 -> 4559.08 | N131: 4-5月
A132: =ROW()-2 -> 130 | B132: 新疆伍拾陆朵花家政服务有限公司 | C132: 2 | D132: 0 | E132: 916531*********79C | F132: =SUMIF(申请单位部分员工花名册!D:G,B:B,申请单位部分员工花名册!G:G) -> 3199.36 | G132: =SUMIF(申请单位部分员工花名册!D:H,B:B,申请单位部分员工花名册!H:H) -> 1359.72 | H132: 0 | I132: =F132+G132 -> 4559.08 | J132: =I132 -> 4559.08 | K132: =SUMIF(申请个人部分高校生花名册!D:L,B:B,申请个人部分高校生花名册!L:L) -> 0 | L132: =K132 -> 0 | M132: =J132+L132 -> 4559.08 | N132: 4-5月
A133: =ROW()-2 -> 131 | B133: 喀什华安安全生产技术服务中心（有限公司） | C133: 10 | D133: 3 | E133: 916531*********43Y | F133: =SUMIF(申请单位部分员工花名册!D:G,B:B,申请单位部分员工花名册!G:G) -> 15996.8 | G133: =SUMIF(申请单位部分员工花名册!D:H,B:B,申请单位部分员工花名册!H:H) -> 6798.6 | H133: 0 | I133: =F133+G133 -> 22795.4 | J133: =I133 -> 22795.4 | K133: =SUMIF(申请个人部分高校生花名册!D:L,B:B,申请个人部分高校生花名册!L:L) -> 2999.4 | L133: =K133 -> 2999.4 | M133: =J133+L133 -> 25794.8 | N133: 4-5月
A134: =ROW()-2 -> 132 | B134: 新疆永达特种设备检验检测有限公司 | C134: 10 | D134: 0 | E134: 916531*********G19 | F134: =SUMIF(申请单位部分员工花名册!D:G,B:B,申请单位部分员工花名册!G:G) -> 15996.8 | G134: =SUMIF(申请单位部分员工花名册!D:H,B:B,申请单位部分员工花名册!H:H) -> 6798.6 | H134: 0 | I134: =F134+G134 -> 22795.4 | J134: =I134 -> 22795.4 | K134: =SUMIF(申请个人部分高校生花名册!D:L,B:B,申请个人部分高校生花名册!L:L) -> 0 | L134: =K134 -> 0 | M134: =J134+L134 -> 22795.4 | N134: 4-5月
A135: =ROW()-2 -> 133 | B135: 新疆通用机电工程有限公司 | C135: 3 | D135: 0 | E135: 916531*********E7R | F135: =SUMIF(申请单位部分员工花名册!D:G,B:B,申请单位部分员工花名册!G:G) -> 4799.04 | G135: =SUMIF(申请单位部分员工花名册!D:H,B:B,申请单位部分员工花名册!H:H) -> 2039.58 | H135: 0 | I135: =F135+G135 -> 6838.62 | J135: =I135 -> 6838.62 | K135: =SUMIF(申请个人部分高校生花名册!D:L,B:B,申请个人部分高校生花名册!L:L) -> 0 | L135: =K135 -> 0 | M135: =J135+L135 -> 6838.62 | N135: 4-5月
A136: =ROW()-2 -> 134 | B136: 新疆誉仁建设工程有限公司 | C136: 2 | D136: 0 | E136: 916531*********495 | F136: =SUMIF(申请单位部分员工花名册!D:G,B:B,申请单位部分员工花名册!G:G) -> 2399.52 | G136: =SUMIF(申请单位部分员工花名册!D:H,B:B,申请单位部分员工花名册!H:H) -> 1019.79 | H136: 0 | I136: =F136+G136 -> 3419.31 | J136: =I136 -> 3419.31 | K136: =SUMIF(申请个人部分高校生花名册!D:L,B:B,申请个人部分高校生花名册!L:L) -> 0 | L136: =K136 -> 0 | M136: =J136+L136 -> 3419.31 | N136: 4-5月
... A253: =ROW()-2 -> 251 | B253: 新疆渊流建设工程有限公司（疏附建安合同） | C253: 6 | D253: 0 | E253: 916531*********E3J | F253: =SUMIF(申请单位部分员工花名册!D:G,B:B,申请单位部分员工花名册!G:G) -> 9598.08 | G253: =SUMIF(申请单位部分员工花名册!D:H,B:B,申请单位部分员工花名册!H:H) -> 4079.16 | H253: 0 | I253: =F253+G253 -> 13677.24 | J253: =I253 -> 13677.24 | K253: =SUMIF(申请个人部分高校生花名册!D:L,B:B,申请个人部分高校生花名册!L:L) -> 0 | L253: =K253 -> 0 | M253: =J253+L253 -> 13677.24 | N253: 4-5月
A254: 合计 | C254: 1516 | D254: 76 | F254: 2358392 | G254: 1002312.3 | H254: 0 | I254: 3360704.3 | J254: 3360704.3 | K254: 73985.4 | L254: 73985.4 | M254: 3434689.7

Sheet 申请单位部分员工花名册
A1: 2025年4-5月（第二批）单位部分社保补贴汇总花名册
A2: 序号 | B2: 姓名 | C2: 身份证号 | D2: 单位名称 | E2: 养老缴费基数 | F2: 医疗缴费基数 | G2: 养老单位 缴纳部分 | H2: 医疗单位 缴纳部分 | I2: 失业单位 缴纳部分 | J2: 补贴申请时间 | K2: 单位申请金额 | L2: 审批金额
A3: =ROW()-2 -> 1 | B3: 麦麦提艾力开·祖农 | C3: 653101**********19 | D3: 喀什市歌雅艺术培训有限公司 | E3: 4999 | F3: 4999 | G3: 1599.68 | H3: 679.86 | I3: 0 | J3: 202504-202505 | K3: =G3+H3 -> 2279.54 | L3: =K3 -> 2279.54
A4: =ROW()-2 -> 2 | B4: 吾卜里卡斯穆·吾卜里 | C4: 653101**********34 | D4: 喀什市歌雅艺术培训有限公司 | E4: 4999 | F4: 4999 | G4: 1599.68 | H4: 679.86 | I4: 0 | J4: 202504-202505 | K4: =G4+H4 -> 2279.54 | L4: =K4 -> 2279.54
A5: =ROW()-2 -> 3 | B5: 茹孜古丽·图尔荪 | C5: 653122**********20 | D5: 喀什市歌雅艺术培训有限公司 | E5: 4999 | F5: 4999 | G5: 1599.68 | H5: 679.86 | I5: 0 | J5: 202504-202505 | K5: =G5+H5 -> 2279.54 | L5: =K5 -> 2279.54
A6: =ROW()-2 -> 4 | B6: 伊巴迪古丽·麦麦提 | C6: 653121**********45 | D6: 喀什市歌雅艺术培训有限公司 | E6: 4999 | F6: 4999 | G6: 1599.68 | H6: 679.86 | I6: 0 | J6: 202504-202505 | K6: =G6+H6 -> 2279.54 | L6: =K6 -> 2279.54
A7: =ROW()-2 -> 5 | B7: 热比古里· 阿西木 | C7: 653122**********20 | D7: 喀什志向人力资源服务有限公司 | E7: 4999 | F7: 4999 | G7: 1599.68 | H7: 679.86 | I7: 0 | J7: 202504-202505 | K7: =G7+H7 -> 2279.54 | L7: =K7 -> 2279.54
A8: =ROW()-2 -> 6 | B8: 李林林 | C8: 430521**********27 | D8: 喀什嘉诺财务管理咨询有限公司 | E8: 4999 | F8: 4999 | G8: 1599.68 | H8: 679.86 | I8: 0 | J8: 202504-202505 | K8: =G8+H8 -> 2279.54 | L8: =K8 -> 2279.54
A9: =ROW()-2 -> 7 | B9: 杨丹 | C9: 430523**********2X | D9: 喀什嘉诺财务管理咨询有限公司 | E9: 4999 | F9: 4999 | G9: 1599.68 | H9: 679.86 | I9: 0 | J9: 202504-202505 | K9: =G9+H9 -> 2279.54 | L9: =K9 -> 2279.54
A10: =ROW()-2 -> 8 | B10: 赵静 | C10: 511622**********21 | D10: 方舟安全管理新疆有限公司 | E10: 4999 | F10: 4999 | G10: 1599.68 | H10: 679.86 | I10: 0 | J10: 202504-202505 | K10: =G10+H10 -> 2279.54 | L10: =K10 -> 2279.54
A11: =ROW()-2 -> 9 | B11: 李靖琪 | C11: 653127**********60 | D11: 方舟安全管理新疆有限公司 | E11: 4999 | F11: 4999 | G11: 1599.68 | H11: 679.86 | I11: 0 | J11: 202504-202505 | K11: =G11+H11 -> 2279.54 | L11: =K11 -> 2279.54
A12: =ROW()-2 -> 10 | B12: 帕丽旦·依布拉英 | C12: 653124**********20 | D12: 方舟安全管理新疆有限公司 | E12: 4999 | F12: 4999 | G12: 1599.68 | H12: 679.86 | I12: 0 | J12: 202504-202505 | K12: =G12+H12 -> 2279.54 | L12: =K12 -> 2279.54
A13: =ROW()-2 -> 11 | B13: 麦吾兰江·阿布都克依穆 | C13: 653121**********33 | D13: 方舟安全管理新疆有限公司 | E13: 4999 | F13: 4999 | G13: 1599.68 | H13: 679.86 | I13: 0 | J13: 202504-202505 | K13: =G13+H13 -> 2279.54 | L13: =K13 -> 2279.54
A14: =ROW()-2 -> 12 | B14: 麦尔比那·穆合塔尔 | C14: 653121**********46 | D14: 方舟安全管理新疆有限公司 | E14: 4999 | F14: 4999 | G14: 1599.68 | H14: 679.86 | I14: 0 | J14: 202504-202505 | K14: =G14+H14 -> 2279.54 | L14: =K14 -> 2279.54
... A364: =ROW()-2 -> 362 | B364: 吴非 | C364: 512002**********59 | D364: 新疆昌隆黄河建设工程有限公司 | E364: 4999 | F364: 4999 | G364: 1599.68 | H364: 679.86 | I364: 0 | J364: 202504-202505 | K364: =G364+H364 -> 2279.54 | L364: =K364 -> 2279.54
A365: =ROW()-2 -> 363 | B365: 王涧 | C365: 360402**********24 | D365: 新疆昌隆黄河建设工程有限公司 | E365: 4999 | F365: 4999 | G365: 1599.68 | H365: 679.86 | J365: 202504-202505 | K365: =G365+H365 -> 2279.54 | L365: =K365 -> 2279.54
A366: =ROW()-2 -> 364 | B366: 张志丽 | C366: 142423**********29 | D366: 喀什久象商贸有限公司 | E366: 4999 | F366: 4999 | G366: 1599.68 | H366: 679.86 | I366: 0 | J366: 202504-202505 | K366: =G366+H366 -> 2279.54 | L366: =K366 -> 2279.54
A367: =ROW()-2 -> 365 | B367: 朱燕娥 | C367: 620422**********28 | D367: 喀什久象商贸有限公司 | E367: 4999 | F367: 4999 | G367: 1599.68 | H367: 679.86 | I367: 0 | J367: 202504-202505 | K367: =G367+H367 -> 2279.54 | L367: =K367 -> 2279.54
A368: =ROW()-2 -> 366 | B368: 赵胜 | C368: 211322**********38 | D368: 喀什久象商贸有限公司 | E368: 4999 | F368: 4999 | G368: 1599.68 | H368: 679.86 | I368: 0 | J368: 202504-202505 | K368: =G368+H368 -> 2279.54 | L368: =K368 -> 2279.54
A369: =ROW()-2 -> 367 | B369: 张佩 | C369: 430124**********87 | D369: 喀什博悦供应链管理有限公司 | E369: 4999 | F369: 4999 | G369: 1599.68 | H369: 679.86 | I369: 0 | J369: 202504-202505 | K369: =G369+H369 -> 2279.54 | L369: =K369 -> 2279.54
A370: =ROW()-2 -> 368 | B370: 何梦园 | C370: 653021**********2x | D370: 喀什博悦供应链管理有限公司 | E370: 4999 | F370: 4999 | G370: 1599.68 | H370: 679.86 | I370: 0 | J370: 202504-202505 | K370: =G370+H370 -> 2279.54 | L370: =K370 -> 2279.54
A371: =ROW()-2 -> 369 | B371: 段晓倩 | C371: 413026**********23 | D371: 喀什博悦供应链管理有限公司 | E371: 4999 | F371: 4999 | G371: 1599.68 | H371: 679.86 | I371: 0 | J371: 202504-202505 | K371: =G371+H371 -> 2279.54 | L371: =K371 -> 2279.54
A372: =ROW()-2 -> 370 | B372: 黄文凤 | C372: 622323**********27 | D372: 喀什博悦供应链管理有限公司 | E372: 4999 | F372: 4999 | G372: 1599.68 | H372: 679.86 | I372: 0 | J372: 202504-202505 | K372: =G372+H372 -> 2279.54 | L372: =K372 -> 2279.54
A373: =ROW()-2 -> 371 | B373: 艾则麦提·奥布力 | C373: 653022**********76 | D373: 新疆兴宇天成勘测规划有限公司喀什分公司 | E373: 4999 | F373: 4999 | G373: 1599.68 | H373: 679.86 | I373: 0 | J373: 202504-202505 | K373: =G373+H373 -> 2279.54 | L373: =K373 -> 2279.54
A374: =ROW()-2 -> 372 | B374: 米合热阿依·玉买尔 | C374: 653101**********29 | D374: 新疆兴宇天成勘测规划有限公司喀什分公司 | E374: 4999 | F374: 4999 | G374: 1599.68 | H374: 679.86 | I374: 0 | J374: 202504-202505 | K374: =G374+H374 -> 2279.54 | L374: =K374 -> 2279.54
A375: =ROW()-2 -> 373 | B375: 冯磊 | C375: 653125**********30 | D375: 新疆兴宇天成勘测规划有限公司喀什分公司 | E375: 4999 | F375: 4999 | G375: 799.84 | H375: 339.93 | I375: 0 | J375: 202505-202505 | K375: =G375+H375 -> 1139.77 | L375: =K375 -> 1139.77
A376: =ROW()-2 -> 374 | B376: 闫飞 | C376: 652323**********1X | D376: 新疆喀发消防检测服务有限公司 | E376: 4999 | F376: 4999 | G376: 799.84 | H376: 339.93 | I376: 0 | J376: 202504-202504 | K376: =G376+H376 -> 1139.77 | L376: =K376 -> 1139.77
A377: =ROW()-2 -> 375 | B377: 张梅 | C377: 654301**********29 | D377: 新疆喀发消防检测服务有限公司 | E377: 4999 | F377: 4999 | G377: 1599.68 | H377: 679.86 | I377: 0 | J377: 202504-202505 | K377: =G377+H377 -> 2279.54 | L377: =K377 -> 2279.54
... A517: =ROW()-2 -> 515 | B517: 刘登龙 | C517: 622224**********13 | D517: 新疆全龙建和混凝土有限责任公司 | E517: 4999 | F517: 4999 | G517: 799.84 | H517: 339.93 | I517: 0 | J517: 202505-202505 | K517: =G517+H517 -> 1139.77 | L517: =K517 -> 1139.77
A518: =ROW()-2 -> 516 | B518: 阿瓦姑丽·艾散江 | C518: 653101**********47 | D518: 喀什宏大机动车驾驶员培训有限公司 | E518: 4999 | F518: 4999 | G518: 1599.68 | H518: 679.86 | I518: 0 | J518: 202504-202505 | K518: =G518+H518 -> 2279.54 | L518: =K518 -> 2279.54
A519: =ROW()-2 -> 517 | B519: 吐逊姑丽·卡依尔江 | C519: 653101**********29 | D519: 喀什宏大机动车驾驶员培训有限公司 | E519: 4999 | F519: 4999 | G519: 1599.68 | H519: 679.86 | I519: 0 | J519: 202504-202505 | K519: =G519+H519 -> 2279.54 | L519: =K519 -> 2279.54
A520: =ROW()-2 -> 518 | B520: 吐逊江·卡依尔江 | C520: 653101**********10 | D520: 喀什宏大机动车驾驶员培训有限公司 | E520: 4999 | F520: 4999 | G520: 1599.68 | H520: 679.86 | I520: 0 | J520: 202504-202505 | K520: =G520+H520 -> 2279.54 | L520: =K520 -> 2279.54
A521: =ROW()-2 -> 519 | B521: 田丽 | C521: 653127**********45 | D521: 新疆康辉大自然国际旅行社有限责任公司喀什一分公司 | E521: 4999 | F521: 4999 | G521: 1599.68 | H521: 679.86 | I521: 0 | J521: 202504-202505 | K521: =G521+H521 -> 2279.54 | L521: =K521 -> 2279.54
A522: =ROW()-2 -> 520 | B522: 罗甜甜 | C522: 511321**********69 | D522: 新疆康辉大自然国际旅行社有限责任公司喀什一分公司 | E522: 4999 | F522: 4999 | G522: 1599.68 | H522: 679.86 | I522: 0 | J522: 202504-202505 | K522: =G522+H522 -> 2279.54 | L522: =K522 -> 2279.54
A523: =ROW()-2 -> 521 | B523: 苟容生 | C523: 500238**********03 | D523: 喀什鱼米禾家餐饮管理有限公司 | E523: 4999 | F523: 4999 | G523: 1599.68 | H523: 679.86 | I523: 0 | J523: 202504-202505 | K523: =G523+H523 -> 2279.54 | L523: =K523 -> 2279.54
A524: =ROW()-2 -> 522 | B524: 买麦提吐尔逊·牙生 | C524: 653101**********11 | D524: 喀什达瓦医院有限公司 | E524: 4999 | F524: 4999 | G524: 1599.68 | H524: 679.86 | I524: 0 | J524: 202504-202505 | K524: =G524+H524 -> 2279.54 | L524: =K524 -> 2279.54
A525: =ROW()-2 -> 523 | B525: 阿卜杜萨拉木·吾普尔 | C525: 653123**********31 | D525: 喀什达瓦医院有限公司 | E525: 4999 | F525: 4999 | G525: 1599.68 | H525: 679.86 | I525: 0 | J525: 202504-202505 | K525: =G525+H525 -> 2279.54 | L525: =K525 -> 2279.54
A526: =ROW()-2 -> 524 | B526: 艾买提江·阿吉 | C526: 653123**********32 | D526: 喀什达瓦医院有限公司 | E526: 4999 | F526: 4999 | G526: 1599.68 | H526: 679.86 | I526: 0 | J526: 202504-202505 | K526: =G526+H526 -> 2279.54 | L526: =K526 -> 2279.54
A527: =ROW()-2 -> 525 | B527: 迪丽努尔·艾尼瓦 | C527: 653128**********41 | D527: 喀什达瓦医院有限公司 | E527: 4999 | F527: 4999 | G527: 1599.68 | H527: 679.86 | I527: 0 | J527: 202504-202505 | K527: =G527+H527 -> 2279.54 | L527: =K527 -> 2279.54
A528: =ROW()-2 -> 526 | B528: 克迪力亚·扎克尔 | C528: 653101**********26 | D528: 喀什达瓦医院有限公司 | E528: 4999 | F528: 4999 | G528: 1599.68 | H528: 679.86 | I528: 0 | J528: 202504-202505 | K528: =G528+H528 -> 2279.54 | L528: =K528 -> 2279.54
...

Sheet 申请个人部分高校生花名册
A1: 2025年4-5月（第二批）高校毕业生个人部分社保补贴汇总花名册
A2: 序号 | B2: 姓名 | C2: 身份证号 | D2: 单位名称 | E2: 养老缴费基数 | F2: 医疗缴费基数 | G2: 养老个人 缴纳部分 | H2: 医疗个人 缴纳部分 | I2: 失业个人 缴纳部分 | J2: 缴费所属时间 | K2: 个人申请金额 | L2: 审批金额
A3: =ROW()-2 -> 1 | B3: 李靖琪 | C3: 653127**********60 | D3: 方舟安全管理新疆有限公司 | E3: 4999 | F3: 4999 | G3: 799.84 | H3: 199.96 | I3: 0 | J3: 202504-202505 | K3: 999.8 | L3: 999.8
A4: =ROW()-2 -> 2 | B4: 凯丽曼·阿迪力 | C4: 653129**********26 | D4: 喀什医嘉动物医院有限公司 | E4: 4999 | F4: 4999 | G4: 799.84 | H4: 199.96 | I4: 0 | J4: 202504-202505 | K4: 999.8 | L4: 999.8
A5: =ROW()-2 -> 3 | B5: 努尔妮娅孜·米吉提 | C5: 653125**********2X | D5: 喀什医嘉动物医院有限公司 | E5: 4999 | F5: 4999 | G5: 799.84 | H5: 199.96 | I5: 0 | J5: 202504-202505 | K5: 999.8 | L5: 999.8
A6: =ROW()-2 -> 4 | B6: 萨比·巴拉提 | C6: 653128**********77 | D6: 新疆永盛胜达电梯有限公司 | E6: 4999 | F6: 4999 | G6: 799.84 | H6: 199.96 | I6: 0 | J6: 202504-202505 | K6: 999.8 | L6: 999.8
A7: =ROW()-2 -> 5 | B7: 麦尔旦·麦麦提 | C7: 653122**********36 | D7: 新疆永盛胜达电梯有限公司 | E7: 4999 | F7: 4999 | G7: 799.84 | H7: 199.96 | I7: 0 | J7: 202504-202505 | K7: 999.8 | L7: 999.8
A8: =ROW()-2 -> 6 | B8: 伊再提古丽·图尔荪 | C8: 653121**********20 | D8: 喀什金麦源粮油购销有限责任公司 | E8: 4999 | F8: 4999 | G8: =399.92*2 -> 799.84 | H8: 199.96 | I8: 0 | J8: 202504-202505 | K8: 999.8 | L8: 999.8
A9: =ROW()-2 -> 7 | B9: 热依汉古丽·阿卜杜热依木 | C9: 653121**********6X | D9: 喀什金麦源粮油购销有限责任公司 | E9: 4999 | F9: 4999 | G9: 799.84 | H9: 199.96 | I9: 0 | J9: 202504-202505 | K9: 999.8 | L9: 999.8
A10: =ROW()-2 -> 8 | B10: 阿依姑再丽·穆沙 | C10: 653121**********28 | D10: 喀什金麦源粮油购销有限责任公司 | E10: 4999 | F10: 4999 | G10: 799.84 | H10: 199.96 | I10: 0 | J10: 202504-202505 | K10: 999.8 | L10: 999.8
A11: =ROW()-2 -> 9 | B11: 阿依吐尔逊·库尔班 | C11: 653121**********29 | D11: 喀什金麦源粮油购销有限责任公司 | E11: 4999 | F11: 4999 | G11: 799.84 | H11: 199.96 | I11: 0 | J11: 202504-202505 | K11: 999.8 | L11: 999.8
A12: =ROW()-2 -> 10 | B12: 热孜亚·买买提吐尔逊 | C12: 653101**********41 | D12: 喀什金麦源粮油购销有限责任公司 | E12: 4999 | F12: 4999 | G12: 799.84 | H12: 199.96 | I12: 0 | J12: 202504-202505 | K12: 999.8 | L12: 999.8
A13: =ROW()-2 -> 11 | B13: 努尔斯曼·阿卜杜热西提 | C13: 653121**********21 | D13: 喀什金麦源粮油购销有限责任公司 | E13: 4999 | F13: 4999 | G13: 799.84 | H13: 199.96 | I13: 0 | J13: 202504-202505 | K13: 999.8 | L13: 999.8
A14: =ROW()-2 -> 12 | B14: 努尔比亚穆·马尼苏尔 | C14: 653121**********45 | D14: 喀什金麦源粮油购销有限责任公司 | E14: 4999 | F14: 4999 | G14: 799.84 | H14: 199.96 | I14: 0 | J14: 202504-202505 | K14: 999.8 | L14: 999.8
A15: =ROW()-2 -> 13 | B15: 吾布力·拜克热 | C15: 653121**********10 | D15: 喀什金麦源粮油购销有限责任公司 | E15: 4999 | F15: 4999 | G15: 799.84 | H15: 199.96 | I15: 0 | J15: 202504-202505 | K15: 999.8 | L15: 999.8
A16: =ROW()-2 -> 14 | B16: 米合拉依·米热艾合买提 | C16: 653101**********26 | D16: 喀什金麦源粮油购销有限责任公司 | E16: 4999 | F16: 4999 | G16: 799.84 | H16: 199.96 | I16: 0 | J16: 202504-202505 | K16: 999.8 | L16: 999.8
A17: =ROW()-2 -> 15 | B17: 阿不都卡哈尔·阿不来海提 | C17: 653127**********10 | D17: 喀什新远商贸有限责任公司 | E17: 4999 | F17: 4999 | G17: 799.84 | H17: 199.96 | I17: 0 | J17: 202504-202505 | K17: 999.8 | L17: 999.8
A18: =ROW()-2 -> 16 | B18: 阿米娜·吐拉克 | C18: 653121**********20 | D18: 喀什申通锦润物流有限公司 | E18: 4999 | F18: 4999 | G18: 399.92 | H18: 99.98 | I18: 0 | J18: 202505-202505 | K18: 499.9 | L18: 499.9
A19: =ROW()-2 -> 17 | B19: 麦尔旦·吾拉依木 | C19: 653021**********19 | D19: 喀什嘉豪绿源房地产开发有限公司喀什市第一分公司 | E19: 4999 | F19: 4999 | G19: 799.84 | H19: 199.96 | I19: 0 | J19: 202504-202505 | K19: 999.8 | L19: 999.8
A20: =ROW()-2 -> 18 | B20: 玛热亚·吐尔洪 | C20: 653121**********43 | D20: 喀什嘉豪绿源房地产开发有限公司喀什市第一分公司 | E20: 4999 | F20: 4999 | G20: 799.84 | H20: 199.96 | I20: 0 | J20: 202504-202505 | K20: 999.8 | L20: 999.8
... A58: =ROW()-2 -> 56 | B58: 萨迪尔·艾依提 | C58: 653022**********11 | D58: 新疆鼎兴电梯有限公司 | E58: 4999 | F58: 4999 | G58: 799.84 | H58: 199.96 | I58: 0 | J58: 202504-202505 | K58: 999.8 | L58: 999.8
A59: =ROW()-2 -> 57 | B59: 多力坤江·吾提库尔 | C59: 653101**********14 | D59: 喀什市世纪埃安汽车销售服务有限公司 | E59: 4999 | F59: 4999 | G59: =E59*0.08*(MID(J59,12,2)-MID(J59,5,2)+1) -> 399.92 | H59: =F59*0.02*(MID(J59,12,2)-MID(J59,5,2)+1) -> 99.98 | I59: 0 | J59: 202505-202505 | K59: =G59+H59 -> 499.9 | L59: =K59 -> 499.9
A60: =ROW()-2 -> 58 | B60: 谢尔瓦乃姆·艾姆拉 | C60: 653125**********26 | D60: 新疆喀什噶尔旅游股份有限公司 | E60: 4999 | F60: 4999 | G60: 799.84 | H60: 199.96 | I60: 0 | J60: 202504-202505 | K60: 999.8 | L60: 999.8
A61: =ROW()-2 -> 59 | B61: 王子龙 | C61: 321088**********16 | D61: 新疆喀什噶尔旅游股份有限公司 | E61: 4999 | F61: 4999 | G61: 799.84 | H61: 199.96 | I61: 0 | J61: 202504-202505 | K61: 999.8 | L61: 999.8
A62: =ROW()-2 -> 60 | B62: 吕仲杰 | C62: 620321**********13 | D62: 喀什市规划设计研究院（有限责任公司） | E62: 4999 | F62: 4999 | G62: 799.84 | H62: 199.96 | I62: 0 | J62: 202504-202505 | K62: 999.8 | L62: 999.8
A63: =ROW()-2 -> 61 | B63: 史莉 | C63: 622323**********60 | D63: 喀什市规划设计研究院（有限责任公司） | E63: 4999 | F63: 4999 | G63: 799.84 | H63: 199.96 | I63: 0 | J63: 202504-202505 | K63: 999.8 | L63: 999.8
A64: =ROW()-2 -> 62 | B64: 张莹 | C64: 640381**********2X | D64: 喀什市规划设计研究院（有限责任公司） | E64: 4999 | F64: 4999 | G64: 799.84 | H64: 199.96 | I64: 0 | J64: 202504-202505 | K64: 999.8 | L64: 999.8
A65: =ROW()-2 -> 63 | B65: 刘显旭 | C65: 210303**********15 | D65: 喀什市规划设计研究院（有限责任公司） | E65: 4999 | F65: 4999 | G65: 799.84 | H65: 199.96 | I65: 0 | J65: 202504-202505 | K65: 999.8 | L65: 999.8
A66: =ROW()-2 -> 64 | B66: 代余彤 | C66: 620123**********26 | D66: 喀什市规划设计研究院（有限责任公司） | E66: 4999 | F66: 4999 | G66: 799.84 | H66: 199.96 | I66: 0 | J66: 202504-202505 | K66: 999.8 | L66: 999.8
A67: =ROW()-2 -> 65 | B67: 许雲霞 | C67: 622424**********28 | D67: 喀什市规划设计研究院（有限责任公司） | E67: 4999 | F67: 4999 | G67: 799.84 | H67: 199.96 | I67: 0 | J67: 202504-202505 | K67: 999.8 | L67: 999.8
A68: =ROW()-2 -> 66 | B68: 莫延杰 | C68: 654003**********16 | D68: 喀什市规划设计研究院（有限责任公司） | E68: 4999 | F68: 4999 | G68: 799.84 | H68: 199.96 | I68: 0 | J68: 202504-202505 | K68: 999.8 | L68: 999.8
A69: =ROW()-2 -> 67 | B69: 陆雯 | C69: 620123**********28 | D69: 喀什市规划设计研究院（有限责任公司） | E69: 4999 | F69: 4999 | G69: 799.84 | H69: 199.96 | I69: 0 | J69: 202504-202505 | K69: 999.8 | L69: 999.8
A70: =ROW()-2 -> 68 | B70: 马雪丽 | C70: 622426**********24 | D70: 喀什市规划设计研究院（有限责任公司） | E70: 4999 | F70: 4999 | G70: 799.84 | H70: 199.96 | I70: 0 | J70: 202504-202505 | K70: 999.8 | L70: 999.8
A71: =ROW()-2 -> 69 | B71: 朱殿元 | C71: 622323**********3X | D71: 喀什市规划设计研究院（有限责任公司） | E71: 4999 | F71: 4999 | G71: 799.84 | H71: 199.96 | I71: 0 | J71: 202504-202505 | K71: 999.8 | L71: 999.8
A72: =ROW()-2 -> 70 | B72: 阿斯耶·艾尔肯 | C72: 653101**********25 | D72: 喀什环通旧机动车交易市场有限公司 | E72: 4999 | F72: 4999 | G72: 799.84 | H72: 199.96 | I72: 0 | J72: 202504-202505 | K72: =G72+H72 -> 999.8 | L72: =K72 -> 999.8
A73: =ROW()-2 -> 71 | B73: 阿依古丽·亚库普 | C73: 653122**********20 | D73: 喀什环通旧机动车交易市场有限公司 | E73: 4999 | F73: 4999 | G73: 799.84 | H73: 199.96 | I73: 0 | J73: 202504-202505 | K73: =G73+H73 -> 999.8 | L73: =K73 -> 999.8
A74: =ROW()-2 -> 72 | B74: 米吉提卡热·阿不都艾尼 | C74: 653101**********74 | D74: 喀什乾盛医疗科技有限公司 | E74: 4999 | F74: 4999 | G74: 799.84 | H74: 199.96 | I74: 0 | J74: 202504-202505 | K74: 999.8 | L74: 999.8
A75: =ROW()-2 -> 73 | B75: 卡米来·麦麦提吐尔逊 | C75: 653101**********62 | D75: 新疆蚂蚁物业服务有限公司喀什分公司 | E75: 4999 | F75: 4999 | G75: 799.84 | H75: 199.96 | I75: 0 | J75: 202504-202505 | K75: =G75+H75 -> 999.8 | L75: =K75 -> 999.8
A76: =ROW()-2 -> 74 | B76: 拜合扎提·麦麦提吐尔逊 | C76: 653101**********11 | D76: 新疆蚂蚁物业服务有限公司喀什分公司 | E76: 4999 | F76: 4999 | G76: 399.92 | H76: 99.98 | I76: 0 | J76: 202505-202505 | K76: =G76+H76 -> 499.9 | L76: =K76 -> 499.9
A77: =ROW()-2 -> 75 | B77: 艾姆拉古丽·吐尔洪 | C77: 653122**********44 | D77: 喀什远方德智物流有限公司 | E77: 4999 | F77: 4999 | G77: 799.84 | H77: 199.96 | I77: 0 | J77: 202504-202505 | K77: 999.8 | L77: 999.8
...
